BEGIN:VCALENDAR
VERSION:2.0
PRODID:-//ChamberMaster//Event Calendar 2.0//EN
METHOD:PUBLISH
X-PUBLISHED-TTL:P3D
REFRESH-INTERVAL:P3D
CALSCALE:GREGORIAN
BEGIN:VEVENT
DTSTART:20230419T123000Z
DTEND:20230419T140000Z
X-MICROSOFT-CDO-ALLDAYEVENT:FALSE
SUMMARY:Business for Breakfast
DESCRIPTION:Please join us\, along with the Winnetka/Northfield/Glencoe Chamber for a hot breakfast and presentation on "The Importance of Naming a Successor Trustee" from Tim Keefe\, Byline Bank's Vice President - Wealth Management Officer\, followed by networking with fellow Chamber members and guests.
X-ALT-DESC;FMTTYPE=text/html:<span style="box-sizing: border-box\; margin: 0px\; padding: 0px\; border: 0px\; outline: 0px\; font-variant-ligatures: normal\; font-variant-numeric: inherit\; font-variant-east-asian: inherit\; font-stretch: inherit\; line-height: inherit\; vertical-align: baseline\; orphans: 2\; text-align: center\; widows: 2\; text-decoration-thickness: initial\;">Please join us\, along with the Winnetka/Northfield/Glencoe Chamber for a hot breakfast and presentation on &quot\;The Importance of Naming a Successor Trustee&quot\; from Tim Keefe\, </span><span style="orphans: 2\; text-align: center\; widows: 2\;">Byline Bank&#39\;s&nbsp\;</span><span style="box-sizing: border-box\; margin: 0px\; padding: 0px\; border: 0px\; outline: 0px\; font-variant-ligatures: normal\; font-variant-numeric: inherit\; font-variant-east-asian: inherit\; font-stretch: inherit\; line-height: inherit\; vertical-align: baseline\; orphans: 2\; text-align: center\; widows: 2\; text-decoration-thickness: initial\;">Vice President - Wealth Management Officer\, followed by networking&nbsp\;with fellow Chamber members and guests.&nbsp\;</span>
LOCATION:North Shore Senior Center 161 Northfield Road Northfield
UID:e.463.15299
SEQUENCE:3
DTSTAMP:20260423T041233Z
URL:http://chambermaster.wilmettekenilworth.com/events/details/business-for-breakfast-15299
END:VEVENT

END:VCALENDAR
