BEGIN:VCALENDAR
VERSION:2.0
PRODID:-//ChamberMaster//Event Calendar 2.0//EN
METHOD:PUBLISH
X-PUBLISHED-TTL:P3D
REFRESH-INTERVAL:P3D
CALSCALE:GREGORIAN
BEGIN:VEVENT
DTSTART:20230816T123000Z
DTEND:20230816T140000Z
X-MICROSOFT-CDO-ALLDAYEVENT:FALSE
SUMMARY:Business for Breakfast
DESCRIPTION:Please join us\, along with the Winnetka/Northfield/Glencoe Chamber for a hot breakfast and presentation by Ali Wenzke\, the author of "The Art of Happy Moving" on the importance of decluttering your business for fall\, followed by networking with fellow Chamber members and guests.
X-ALT-DESC;FMTTYPE=text/html:<span style="box-sizing: border-box\; margin: 0px\; padding: 0px\; border: 0px\; outline: 0px\; font-variant-ligatures: normal\; font-variant-numeric: inherit\; font-variant-east-asian: inherit\; font-stretch: inherit\; line-height: inherit\; vertical-align: baseline\; orphans: 2\; text-align: center\; widows: 2\; text-decoration-thickness: initial\;">Please join us\, along with the Winnetka/Northfield/Glencoe Chamber for a hot breakfast and presentation by Ali Wenzke\, the author of &quot\;The Art of Happy Moving&quot\; on the importance of decluttering your business for fall\,&nbsp\;</span><span style="box-sizing: border-box\; margin: 0px\; padding: 0px\; border: 0px\; outline: 0px\; font-variant-ligatures: normal\; font-variant-numeric: inherit\; font-variant-east-asian: inherit\; font-stretch: inherit\; line-height: inherit\; vertical-align: baseline\; orphans: 2\; text-align: center\; widows: 2\; text-decoration-thickness: initial\;">followed by networking&nbsp\;with fellow Chamber members and guests.&nbsp\;</span>
LOCATION:North Shore Senior Center 161 Northfield Road Northfield
UID:e.463.15325
SEQUENCE:3
DTSTAMP:20260420T215858Z
URL:http://chambermaster.wilmettekenilworth.com/events/details/business-for-breakfast-15325
END:VEVENT

END:VCALENDAR
