BEGIN:VCALENDAR
VERSION:2.0
PRODID:-//ChamberMaster//Event Calendar 2.0//EN
METHOD:PUBLISH
X-PUBLISHED-TTL:P3D
REFRESH-INTERVAL:P3D
CALSCALE:GREGORIAN
BEGIN:VEVENT
DTSTART:20230328T164500Z
DTEND:20230328T181500Z
X-MICROSOFT-CDO-ALLDAYEVENT:FALSE
SUMMARY:Let's Do Lunch
DESCRIPTION:Nothing breaks up the workday like getting together for lunch and networking! We're partnering with the Winnetka-Northfield-Glencoe Chamber to host Let's Do Lunch at Guanajuato in Winnetka.
X-ALT-DESC;FMTTYPE=text/html:Nothing breaks up the workday like getting together for lunch and networking! We&#39\;re partnering with the Winnetka-Northfield-Glencoe Chamber to host <strong>Let&#39\;s Do Lunch</strong> at Guanajuato&nbsp\;in Winnetka.&nbsp\;
LOCATION:Guanajuato 1005 Green Bay Road Winnetka
UID:e.463.15300
SEQUENCE:3
DTSTAMP:20260424T053049Z
URL:http://chambermaster.wilmettekenilworth.com/events/details/let-s-do-lunch-15300
END:VEVENT

END:VCALENDAR
