BEGIN:VCALENDAR
VERSION:2.0
PRODID:-//ChamberMaster//Event Calendar 2.0//EN
METHOD:PUBLISH
X-PUBLISHED-TTL:P3D
REFRESH-INTERVAL:P3D
CALSCALE:GREGORIAN
BEGIN:VEVENT
DTSTART:20230727T164500Z
DTEND:20230727T180000Z
X-MICROSOFT-CDO-ALLDAYEVENT:FALSE
SUMMARY:Let's Do Lunch
DESCRIPTION:Nothing breaks up the workday like a mid-day get-together. We're partnering with the Winnetka-Northfield-Glencoe Chamber to host a networking luncheon at 501 Local.
X-ALT-DESC;FMTTYPE=text/html:Nothing breaks up the workday like a mid-day get-together. We&#39\;re partnering with the Winnetka-Northfield-Glencoe Chamber to host a networking luncheon at 501 Local.
LOCATION:Spirit Elephant\, 924 Green Bay Road\, Winnetka
UID:e.463.15322
SEQUENCE:3
DTSTAMP:20260423T165430Z
URL:http://chambermaster.wilmettekenilworth.com/events/details/let-s-do-lunch-15322
END:VEVENT

END:VCALENDAR
