BEGIN:VCALENDAR
VERSION:2.0
PRODID:-//ChamberMaster//Event Calendar 2.0//EN
METHOD:PUBLISH
X-PUBLISHED-TTL:P3D
REFRESH-INTERVAL:P3D
CALSCALE:GREGORIAN
BEGIN:VEVENT
DTSTART:20230822T164500Z
DTEND:20230822T180000Z
X-MICROSOFT-CDO-ALLDAYEVENT:FALSE
SUMMARY:Let's Do Lunch
DESCRIPTION:Nothing breaks up the workday like getting together for lunch and networking! We're partnering with the Winnetka-Northfield-Glencoe Chamber to host Let's Do Lunch at Pescadero in Wilmette.
X-ALT-DESC;FMTTYPE=text/html:Nothing breaks up the workday like getting together for lunch and networking! We&#39\;re partnering with the Winnetka-Northfield-Glencoe Chamber to host <strong>Let&#39\;s Do Lunch</strong> at Pescadero&nbsp\;in Wilmette.&nbsp\;
LOCATION:Pescadero 1167 Wilmette Avenue Wilmette\, IL 60091
UID:e.463.15326
SEQUENCE:3
DTSTAMP:20260420T221155Z
URL:http://chambermaster.wilmettekenilworth.com/events/details/let-s-do-lunch-15326
END:VEVENT

END:VCALENDAR
