BEGIN:VCALENDAR
VERSION:2.0
PRODID:-//ChamberMaster//Event Calendar 2.0//EN
METHOD:PUBLISH
X-PUBLISHED-TTL:P3D
REFRESH-INTERVAL:P3D
CALSCALE:GREGORIAN
BEGIN:VEVENT
DTSTART:20230921T130000Z
DTEND:20230921T143000Z
X-MICROSOFT-CDO-ALLDAYEVENT:FALSE
SUMMARY:Networking Breakfast
DESCRIPTION:Build your business! Make connections! Get a great start to your day by networking with fellow business owners\, sponsored by the Chicago North Shore Convention and Visitors Bureau.
X-ALT-DESC;FMTTYPE=text/html:Build your business! Make connections! Get a great start to your day by networking with fellow business owners\, sponsored by the Chicago North Shore Convention and Visitors Bureau.<br />\n&nbsp\;
LOCATION:Baha'i House of Worship 100 Linden Avenue Wilmette\, IL 60091
UID:e.463.15327
SEQUENCE:3
DTSTAMP:20260420T214631Z
URL:http://chambermaster.wilmettekenilworth.com/events/details/networking-breakfast-15327
END:VEVENT

END:VCALENDAR
