BEGIN:VCALENDAR
VERSION:2.0
PRODID:-//ChamberMaster//Event Calendar 2.0//EN
METHOD:PUBLISH
X-PUBLISHED-TTL:P3D
REFRESH-INTERVAL:P3D
CALSCALE:GREGORIAN
BEGIN:VEVENT
DTSTART:20260318T130000Z
DTEND:20260318T143000Z
X-MICROSOFT-CDO-ALLDAYEVENT:FALSE
SUMMARY:14th District Multi-Chamber State of the County
DESCRIPTION:Learn about Cook County programs and investments that transform the 14th District\, and how these initiatives benefit the businesss community.
X-ALT-DESC;FMTTYPE=text/html:Learn about Cook County programs and investments that transform the 14th District\, and how these initiatives benefit the businesss community.&nbsp\;
LOCATION:Community Consolidated School District 21 959 W. Dundee Road Wheeling\, IL 60093
UID:e.463.15540
SEQUENCE:3
DTSTAMP:20260420T083337Z
URL:https://chambermaster.wilmettekenilworth.com/events/details/14th-district-multi-chamber-state-of-the-county-15540
END:VEVENT

END:VCALENDAR
