BEGIN:VCALENDAR
VERSION:2.0
PRODID:-//ChamberMaster//Event Calendar 2.0//EN
METHOD:PUBLISH
X-PUBLISHED-TTL:P3D
REFRESH-INTERVAL:P3D
CALSCALE:GREGORIAN
BEGIN:VEVENT
DTSTART:20210420T170000Z
DTEND:20210420T180000Z
X-MICROSOFT-CDO-ALLDAYEVENT:FALSE
SUMMARY:Resources for Intelligent Aging Meeting
DESCRIPTION:Network with other professionals whose target market is seniors and the adult children who care for them.
X-ALT-DESC;FMTTYPE=text/html:Network with other professionals whose target market is seniors and the adult children who care for them.
LOCATION:First Congregational Church of Wilmette\, 1125 Wilmette Ave.
UID:e.463.7625
SEQUENCE:3
DTSTAMP:20260425T225346Z
URL:https://chambermaster.wilmettekenilworth.com/events/details/resources-for-intelligent-aging-meeting-04-20-2021-7625
END:VEVENT

END:VCALENDAR
