BEGIN:VCALENDAR
VERSION:2.0
PRODID:-//ChamberMaster//Event Calendar 2.0//EN
METHOD:PUBLISH
X-PUBLISHED-TTL:P3D
REFRESH-INTERVAL:P3D
CALSCALE:GREGORIAN
BEGIN:VEVENT
DTSTART:20210921T170000Z
DTEND:20210921T180000Z
X-MICROSOFT-CDO-ALLDAYEVENT:FALSE
SUMMARY:Resources for Intelligent Aging Meeting
DESCRIPTION:Network with other professionals whose target market is seniors and the adult children who care for them.
X-ALT-DESC;FMTTYPE=text/html:Network with other professionals whose target market is seniors and the adult children who care for them.
LOCATION:Central Station Coffee & Tea\, 1150 Central Ave.\, Wilmette
UID:e.463.7630
SEQUENCE:3
DTSTAMP:20260424T013437Z
URL:https://chambermaster.wilmettekenilworth.com/events/details/resources-for-intelligent-aging-meeting-09-21-2021-7630
END:VEVENT

END:VCALENDAR
