BEGIN:VCALENDAR
VERSION:2.0
PRODID:-//ChamberMaster//Event Calendar 2.0//EN
METHOD:PUBLISH
X-PUBLISHED-TTL:P3D
REFRESH-INTERVAL:P3D
CALSCALE:GREGORIAN
BEGIN:VEVENT
DTSTART:20210427T183000Z
DTEND:20210427T190000Z
X-MICROSOFT-CDO-ALLDAYEVENT:FALSE
SUMMARY:Ribbon Cutting for AKTIV Skincare in Kenilworth
DESCRIPTION:Help celebrate the opening of this wonderful new business!
X-ALT-DESC;FMTTYPE=text/html:Help celebrate the opening of this wonderful new business!&nbsp\;
LOCATION:AKTIV Skincare 404 Green Bay Rd.\, Kenilworth
UID:e.463.15014
SEQUENCE:3
DTSTAMP:20260425T225106Z
URL:https://chambermaster.wilmettekenilworth.com/events/details/ribbon-cutting-for-aktiv-skincare-in-kenilworth-15014
END:VEVENT

END:VCALENDAR
